BEGIN:VCALENDAR
VERSION:2.0
PRODID:-//events.getlocalhop.com//localhop-calendar//EN
URL:https://api.getlocalhop.com/calendar?instance=aWk1gZ31gM&series=false
BEGIN:VEVENT
UID:event-instance-aWk1gZ31gM@events.getlocalhop.com
SEQUENCE:0
DTSTAMP:20260422T170522Z
DTSTART:20250325T230000Z
DTEND:20250326T010000Z
SUMMARY:Writers' Lounge
LOCATION:East Baton Rouge Parish Library\, 7711 Goodwood Blvd. Baton Rouge
 \, LA 70806
DESCRIPTION:<p>East Baton Rouge Parish Library presents a free writing wor
 kshop with journalist\, artist\, and doula Carolina Murriel.&nbsp\; This m
 onthly space is for writers of all skill levels\, genres and styles to cre
 ate and revise together. Learn craft\, write\, and share your work with su
 pportive peers looking to learn from each other.</p>\n<p>&nbsp\;</p>\n<p>J
 oin us for this free writing workshop at the Main Library at Goodwood on t
 he following upcoming dates:</p>\n<p><strong>Tuesday\, March 25\, 6-8pm\, 
 Conference Room B (2nd floor)&nbsp\;</strong><br />Tuesday\, April 22\, 6-
 8pm\, Conference Room B (2nd floor)<br />Wednesday\, May 7\, 6-8pm\, Confe
 rence Room B (2nd floor)</p>\n<p>Registration is encouraged.</p>
URL;VALUE=URI:https://events.getlocalhop.com/writers-lounge/event/grCYZpwB
 5t/
END:VEVENT
END:VCALENDAR