BEGIN:VCALENDAR
VERSION:2.0
PRODID:-//events.getlocalhop.com//localhop-calendar//EN
URL:https://api.getlocalhop.com/calendar?instance=a6rzI5AvRz&series=false
BEGIN:VEVENT
UID:event-instance-a6rzI5AvRz@events.getlocalhop.com
SEQUENCE:0
DTSTAMP:20260420T110108Z
DTSTART:20230531T170000Z
DTEND:20230531T200000Z
SUMMARY:Frontier Health: Safe Place
LOCATION:Johnson City Public Library\, 100 West Millard Street Johnson Cit
 y\, TN 37604\, Lobby
DESCRIPTION:<p>Frontier Health will have an information table in the Libra
 ry's lobby on Wednesday\, May 31 from 1-4 p.m. Frontier Health will share 
 information and answer questions about the national Safe Place outreach an
 d initiative program.&nbsp\;</p>\n<p><br />Frontier Health is a regional p
 rovider of behavioral health services and strives to increase emotional\, 
 mental\, and physical well-being within the communities they serve.</p>
URL;VALUE=URI:https://events.getlocalhop.com/frontier-health-safe-place/ev
 ent/KDan8rrwET/
END:VEVENT
END:VCALENDAR