BEGIN:VCALENDAR
VERSION:2.0
PRODID:-//events.getlocalhop.com//localhop-calendar//EN
URL:https://api.getlocalhop.com/calendar?instance=ZJ7bFAhsoz&series=false
BEGIN:VEVENT
UID:event-instance-ZJ7bFAhsoz@events.getlocalhop.com
SEQUENCE:0
DTSTAMP:20260420T123408Z
DTSTART:20220607T230000Z
DTEND:20220608T000000Z
SUMMARY:Is a ROTH IRA Right for YOU?
LOCATION:Julia L. Butterfield Memorial Library\, 10 Morris Avenue Cold Spr
 ing\, NY 10516
DESCRIPTION:<p>Join us for this virtual event with Mark Lange of SOFA (Soc
 iety for Financial Awareness).&nbsp\;</p>\n<p>Topics to be covered include
 : how to reduce your Social Security Income included as Taxable Income\; h
 ow to provide for heirs with a lifetime of tax-free distributions\; strate
 gies to help reduce the impact of the conversion tax\; and how to reduce f
 uture income taxes.</p>\n<p>&nbsp\;</p>
URL;VALUE=URI:https://events.getlocalhop.com/is-a-roth-ira-right-for-you/e
 vent/dxoIUdOVBk/
END:VEVENT
END:VCALENDAR