BEGIN:VCALENDAR
VERSION:2.0
PRODID:-//events.getlocalhop.com//localhop-calendar//EN
URL:https://api.getlocalhop.com/calendar?instance=Z29TOXdOPD&series=false
BEGIN:VEVENT
UID:event-instance-Z29TOXdOPD@events.getlocalhop.com
SEQUENCE:0
DTSTAMP:20260420T045925Z
DTSTART:20211025T160000Z
DTEND:20211025T234500Z
SUMMARY:Craft & Treat @ WDB
LOCATION:Warren Dorothy Busch Library\, 23333 Ryan Rd Warren\, MI 48091
DESCRIPTION:No tricks\, just treats!Stop into the Busch Library each week 
 in the month of October for a different seasonal craft and a treat.\n\nPic
 k up will begin Mondays: October 4\, 11\, 18\, 25. (All Warren Library Bra
 nches will be closed on Monday\, October 11th for Columbus Day.  We re-ope
 n Tuesday\, October 12th).\n\nAges 10-17.\n\n*Please note that all 4 Warre
 n branches are participating in this program\, please only register at the
  brance you choose to pick up from.*
URL;VALUE=URI:https://events.getlocalhop.com/craft-and-treat-wdb/event/FOB
 DA1OxRQ/
END:VEVENT
END:VCALENDAR