BEGIN:VCALENDAR
VERSION:2.0
PRODID:-//events.getlocalhop.com//localhop-calendar//EN
URL:https://api.getlocalhop.com/calendar?instance=YyWzKwRM1b&series=false
BEGIN:VEVENT
UID:event-instance-YyWzKwRM1b@events.getlocalhop.com
SEQUENCE:0
DTSTAMP:20260421T161315Z
DTSTART:20241214T190000Z
DTEND:20241214T210000Z
SUMMARY:Pontiac Chess Club
LOCATION:Pontiac Public Library\, 60 East Pike Street Pontiac\, MI 48342\,
  Michigan Room
DESCRIPTION:<p><strong>Saturdays (except from 12/07\, 12/21\, and when the
  library is closed)\, 2-4pm\, Michigan Room\, Ages 8-17: </strong>The Pont
 iac Chess Club is meeting at the Pontiac Public Library every Saturday. Al
 l experience levels are welcome. Meetings are dependent on weather conditi
 ons\, but members will be contacted in advance if there is a cancellation.
 </p>
URL;VALUE=URI:https://events.getlocalhop.com/pontiac-chess-club/event/38wC
 LKC8iC/
END:VEVENT
END:VCALENDAR