BEGIN:VCALENDAR
VERSION:2.0
PRODID:-//events.getlocalhop.com//localhop-calendar//EN
URL:https://api.getlocalhop.com/calendar?instance=YpH1frjwHK&series=false
BEGIN:VEVENT
UID:event-instance-YpH1frjwHK@events.getlocalhop.com
SEQUENCE:0
DTSTAMP:20260421T111225Z
DTSTART:20260408T200000Z
DTEND:20260408T210000Z
SUMMARY:Creative crafting
LOCATION:Womelsdorf Community Library\, 203 W. High Street Womelsdorf\, PA
  19567
DESCRIPTION:<p>Make &amp\; take workshop. Be creative and go home with a c
 olorful\, springy flower button wall plaque. Materials provided free of ch
 arge.</p>
URL;VALUE=URI:https://events.getlocalhop.com/creative-crafting/event/SkcFm
 T02qe/
END:VEVENT
END:VCALENDAR