BEGIN:VCALENDAR
VERSION:2.0
PRODID:-//events.getlocalhop.com//localhop-calendar//EN
URL:https://api.getlocalhop.com/calendar?instance=YLuDV4UbQl&series=false
BEGIN:VEVENT
UID:event-instance-YLuDV4UbQl@events.getlocalhop.com
SEQUENCE:0
DTSTAMP:20260423T061316Z
DTSTART:20211108T230000Z
DTEND:20211109T000000Z
SUMMARY:The Discovery of a Masterpiece via Zoom
LOCATION:Hendrick Hudson Free Library\, 185 Kings Ferry Road Montrose\, NY
  10548
DESCRIPTION:Mallory Mortillaro\, Curator of Collections for the Hartley Do
 dge Foundation\, in Madison\, New Jersey\, uncovered a masterpiece while c
 ataloging the artwork housed at the Hartley Dodge Memorial that had been l
 ost to the art world since the 1930s.  Mallory will share the story of how
  a simple art cataloging project evolved into one of the biggest art finds
  in recent history.  Registration begins October 25.  The Zoom invitation 
 will be sent out one day prior to the program.
URL;VALUE=URI:https://events.getlocalhop.com/the-discovery-of-a-masterpiec
 e-via-zoom/event/ZGIy4acVzS/
END:VEVENT
END:VCALENDAR