BEGIN:VCALENDAR
VERSION:2.0
PRODID:-//events.getlocalhop.com//localhop-calendar//EN
URL:https://api.getlocalhop.com/calendar?instance=YBZYQQUGMl&series=false
BEGIN:VEVENT
UID:event-instance-YBZYQQUGMl@events.getlocalhop.com
SEQUENCE:0
DTSTAMP:20260421T192507Z
DTSTART:20220701T000000Z
DTEND:20220701T010000Z
SUMMARY:An Evening with Michelle Zauner
LOCATION:Virtual Event via Glen Carbon Library\, 198 S Main Street Glen Ca
 rbon\, IL 62034
DESCRIPTION:<p>Join us for an evening with Michelle Zauner\, the indie roc
 k star of Japanese Breakfast fame\, discusses her music career and her bes
 tselling book Crying in H Mart. Her memoir about growing up Korean America
 n\, losing her mother\, and forging her own identity was a New York Times 
 notable book of the year. In conversation with Jessica Hopper\, Chicago-ba
 sed music critic\, producer\, and author.<br /><br />This event is made po
 ssible by Illinois Libraries Present\, a statewide collaboration among pub
 lic libraries offering high-quality events. Funded in part by a grant awar
 ded by the Illinois State Library\, a Department of the Office of Secretar
 y of State\, using funds provided by the U.S. Institute of Museum and Libr
 ary Services\, under the provisions of the Library Services and Technology
  Act (LSTA).</p>\n<p>Illinois Libraries Present is committed to inclusion 
 and accessibility. To request accommodations\, please email illinoislibrar
 iespresent@gmail.com.</p>\n<p>&nbsp\;</p>
URL;VALUE=URI:https://events.getlocalhop.com/an-evening-with-michelle-zaun
 er/event/M1D0hlkuaw/
END:VEVENT
END:VCALENDAR