BEGIN:VCALENDAR
VERSION:2.0
PRODID:-//events.getlocalhop.com//localhop-calendar//EN
URL:https://api.getlocalhop.com/calendar?instance=XtkTsnI1Mw&series=false
BEGIN:VEVENT
UID:event-instance-XtkTsnI1Mw@events.getlocalhop.com
SEQUENCE:0
DTSTAMP:20260420T054212Z
DTSTART:20240608T153000Z
DTEND:20240608T163000Z
SUMMARY:Perfect Harmony Concert
LOCATION:Virgin Lake Park\, Roby Rd Stoughton\, WI 53589
DESCRIPTION:<p>Join Madison&rsquo\;s lesbian\, gay\, bisexual\, transgende
 r and ally TTBB chorus for a morning of music! All Ages. This event is hos
 ted by the Stoughton Public Library but held at Virgin Lake Park.</p>
URL;VALUE=URI:https://events.getlocalhop.com/perfect-harmony-concert/event
 /IfmB5165UM/
END:VEVENT
END:VCALENDAR