BEGIN:VCALENDAR
VERSION:2.0
PRODID:-//events.getlocalhop.com//localhop-calendar//EN
URL:https://api.getlocalhop.com/calendar?instance=Xscjg5FTnJ&series=false
BEGIN:VEVENT
UID:event-instance-Xscjg5FTnJ@events.getlocalhop.com
SEQUENCE:0
DTSTAMP:20260421T032324Z
DTSTART:20240119T150000Z
DTEND:20240119T223000Z
SUMMARY:Friends of the Library Book Sale
LOCATION:6495 Clarkston Road Clarkston\, MI 48346
DESCRIPTION:<p>Friends' Used Book Sale 10am-5:30pm</p>\n<p>&nbsp\;</p>\n<p
 >&nbsp\;</p>
URL;VALUE=URI:https://events.getlocalhop.com/friends-of-the-library-book-s
 ale/event/7RNnzNVZfC/
END:VEVENT
END:VCALENDAR