BEGIN:VCALENDAR
VERSION:2.0
PRODID:-//events.getlocalhop.com//localhop-calendar//EN
URL:https://api.getlocalhop.com/calendar?instance=XsW8aD8CNE&series=false
BEGIN:VEVENT
UID:event-instance-XsW8aD8CNE@events.getlocalhop.com
SEQUENCE:0
DTSTAMP:20260424T090901Z
DTSTART:20250210T230000Z
DTEND:20250211T000000Z
SUMMARY:DIY Fire Cider
LOCATION:Henika District Library\, 149 S MAIN ST Wayland\, MI 49348
DESCRIPTION:<p>Come learn about and make this seasonal tonic with herbalis
 t Camilla Voelker from A Season of Wellness. Fire Cider is a traditional a
 pple cider vinegar preparation packed with available kitchen veggies that 
 support wellness during the winter months. In this class\, we will learn a
 bout the history and uses of fire cider and make our own to take home! Thi
 s program is recommended for ages 13 and up.</p>\n<p>About the instructor:
  Camilla is an herbal educator\, board certified wellness coach\, holistic
  nutritionist and Michigan Master Naturalist.&nbsp\;</p>
URL;VALUE=URI:https://events.getlocalhop.com/diy-fire-cider/event/cN39wjVu
 Js/
END:VEVENT
END:VCALENDAR