BEGIN:VCALENDAR
VERSION:2.0
PRODID:-//events.getlocalhop.com//localhop-calendar//EN
URL:https://api.getlocalhop.com/calendar?instance=XOjw9TjqRk&series=true
BEGIN:VEVENT
UID:event-instance-XOjw9TjqRk@events.getlocalhop.com
SEQUENCE:0
DTSTAMP:20260420T012218Z
DTSTART:20260504T213000Z
DTEND:20260504T223000Z
SUMMARY:“I Read This Book” Book Club
LOCATION:Pontiac Public Library\, 60 East Pike Street Pontiac\, MI 48342\,
  Teen Room
DESCRIPTION:<p><strong>Mondays\, &nbsp\;01/05\, 02/02\, 03/02\, 04/06\, 05
 /04\, 5:30-6:30pm\, Teen Room: </strong>Want to talk about books with othe
 r teens but do not want to commit to a traditional book club book. This bo
 ok club is a show and tell with part social hour. Bring in the book you ju
 st read to talk about. <strong>Registration is not required!</strong></p>
URL;VALUE=URI:https://events.getlocalhop.com/i-read-this-book-book-club/ev
 ent/COdcxdIwK7/
END:VEVENT
END:VCALENDAR