BEGIN:VCALENDAR
VERSION:2.0
PRODID:-//events.getlocalhop.com//localhop-calendar//EN
URL:https://api.getlocalhop.com/calendar?instance=XOWx5XWbS1&series=false
BEGIN:VEVENT
UID:event-instance-XOWx5XWbS1@events.getlocalhop.com
SEQUENCE:0
DTSTAMP:20260424T223741Z
DTSTART:20250129T223000Z
DTEND:20250129T233000Z
SUMMARY:Bluey Trivia Night
LOCATION:Henika District Library\, 149 S MAIN ST Wayland\, MI 49348
DESCRIPTION:<p>Test your knowledge of everyone's favorite blue heeler! Gat
 her your mates of all ages and join us for a fun-filled evening of Bluey-t
 hemed trivia. Prizes\, laughs\, and loads of family fun await!</p>\n<p>Reg
 istration Required. Please register everyone who will be taking part in th
 e trivia!</p>
URL;VALUE=URI:https://events.getlocalhop.com/bluey-trivia-night/event/6Dmv
 6LK35V/
END:VEVENT
END:VCALENDAR