BEGIN:VCALENDAR
VERSION:2.0
PRODID:-//events.getlocalhop.com//localhop-calendar//EN
URL:https://api.getlocalhop.com/calendar?instance=Wa61MNVZYw&series=false
BEGIN:VEVENT
UID:event-instance-Wa61MNVZYw@events.getlocalhop.com
SEQUENCE:0
DTSTAMP:20260421T161423Z
DTSTART:20251227T180000Z
DTEND:20251227T233000Z
SUMMARY:GUGL\, The Grown-Up Gaming League's Tabletop Roleplaying Game (TTR
 PG) Saturdays
LOCATION:South Branch\, 2210 Glasgow Ave Baton Rouge\, LA 70808
DESCRIPTION:<p><strong>SEATS ARE LIMITED\, REGISTRATION IS REQUIRED</stron
 g><br />GUGL\, the Grown-Up Gaming League\, holds Tabletop Roleplaying Gam
 e (TTRPG) sessions biweekly (every other Saturday) and is open to adult pl
 ayers\, 18+.<br /><strong>Current game systems played:&nbsp\;</strong></p>
 \n<ul>\n<li><em>Dungeons &amp\; Dragons 5th edition (2 GMs)</em></li>\n<li
 ><em>P</em><em>athfinder 2nd edition Remastered (4 GMs)</em></li>\n<li><em
 >WoD: Hunter (1 Storyteller)</em></li>\n<li><em>OnePageRules (1 GM)</em></
 li>\n<li><em>Stars Without Number (1 GM)</em></li>\n</ul>\n<p><em><br />*G
 M = individual Game Masters and their associated tables (generally 5/6 pla
 yers\, sometimes more)<br /></em><strong>GUGL is always looking for more G
 ame Masters and Storytellers to match eager players to. If interested\, pl
 ease check out the Discord and seek out an admin.&nbsp\;<br /><br />Previo
 us game systems played: </strong><em>Call of Cthulhu\, Numenera\, Pathfind
 er 1e\, Starfinder 1e\, Mothership\, WoD: Vampire the Masquerade\, Pok&eac
 ute\;mon TTRPG\, and many more.&nbsp\;</em></p>\n<p><strong><br />SEATS AR
 E LIMITED\, REGISTRATION IS REQUIRED<br /></strong>Each session is organiz
 ed via GUGL's discord server (link below). New or interested players must 
 check the Discord server and confer with a Game Master for table availabil
 ity.<br /><br /><em>GUGL's Discord server is not affiliated with the Libra
 ry and is run by volunteer members of GUGL.&nbsp\;</em></p>
URL;VALUE=URI:https://events.getlocalhop.com/gugl-the-grownup-gaming-leagu
 es-tabletop-roleplaying-game-ttrpg-saturdays/event/7Pd3Y4zEHS/
END:VEVENT
END:VCALENDAR