BEGIN:VCALENDAR
VERSION:2.0
PRODID:-//events.getlocalhop.com//localhop-calendar//EN
URL:https://api.getlocalhop.com/calendar?instance=WYEz0xdjKs&series=false
BEGIN:VEVENT
UID:event-instance-WYEz0xdjKs@events.getlocalhop.com
SEQUENCE:0
DTSTAMP:20260419T215518Z
DTSTART:20260204T230000Z
DTEND:20260205T000000Z
SUMMARY:Adult Craft: Cookie Decorating
LOCATION:Henika District Library\, 149 S MAIN ST Wayland\, MI 49348
DESCRIPTION:<p>Decorate and devour sugar cookies with fun\, colorful Valen
 tine's frostings! All materials provided.</p>
URL;VALUE=URI:https://events.getlocalhop.com/adult-craft-cookie-decorating
 /event/0NmgHhnPxg/
END:VEVENT
END:VCALENDAR