BEGIN:VCALENDAR
VERSION:2.0
PRODID:-//events.getlocalhop.com//localhop-calendar//EN
URL:https://api.getlocalhop.com/calendar?instance=WS2U8sWYmm&series=false
BEGIN:VEVENT
UID:event-instance-WS2U8sWYmm@events.getlocalhop.com
SEQUENCE:0
DTSTAMP:20260424T170213Z
DTSTART:20260404T150000Z
DTEND:20260404T170000Z
SUMMARY:Paint Along With Us!
LOCATION:Henika District Library\, 149 S MAIN ST Wayland\, MI 49348
DESCRIPTION:<p>Join us for an instructor-led painting class this Saturday!
  All supplies provided.</p>
URL;VALUE=URI:https://events.getlocalhop.com/paint-along-with-us/event/bep
 CL3y5lM/
END:VEVENT
END:VCALENDAR