BEGIN:VCALENDAR
VERSION:2.0
PRODID:-//events.getlocalhop.com//localhop-calendar//EN
URL:https://api.getlocalhop.com/calendar?instance=WP3saMFrwP&series=false
BEGIN:VEVENT
UID:event-instance-WP3saMFrwP@events.getlocalhop.com
SEQUENCE:0
DTSTAMP:20260419T122503Z
DTSTART:20241122T190000Z
DTEND:20241122T203000Z
SUMMARY:Drawing for Adults  (M)
LOCATION:Manistee County Library\, 95 Maple Street Manistee\, MI 49660
DESCRIPTION:<p>Join Chrissy at Manistee Main Library to learn basic drawin
 g techniques with an emphasis on line and perspective.</p>\n<p>All equipme
 nt and tools are supplied during the workshop.</p>\n<p>This free event is 
 intended for adults. No library card required. Please register here on the
  website or call 231-723-2519.</p>
URL;VALUE=URI:https://events.getlocalhop.com/drawing-for-adults-m/event/73
 CmsXXLib/
END:VEVENT
END:VCALENDAR