BEGIN:VCALENDAR
VERSION:2.0
PRODID:-//events.getlocalhop.com//localhop-calendar//EN
URL:https://api.getlocalhop.com/calendar?instance=W6TTBQUCOI&series=false
BEGIN:VEVENT
UID:event-instance-W6TTBQUCOI@events.getlocalhop.com
SEQUENCE:0
DTSTAMP:20260420T104713Z
DTSTART:20260505T210000Z
DTEND:20260505T221500Z
SUMMARY:Kandace Springs
LOCATION:D. Terry Williams Theatre - WMU\, 1351 Theatre Dr. Kalamazoo\, MI
  49006
DESCRIPTION:<p>Hailing from Nashville\, Tennessee\, jazz pianist and singe
 r Kandace Springs&rsquo\;s natural gifts for lyricism and soulfulness have
  propelled her to some of the world&rsquo\;s biggest stages. She has perfo
 rmed alongside Prince\, Sting and Jack White\, Norah Jones\, Roy Hargrove\
 , and more\, and has released acclaimed albums of acoustic-based jazz. Her
  Gilmore set will include arrangements from her latest recording\, Lady in
  Satin\, a loving tribute to Billie Holiday and her 1958 record of the sam
 e name\, with Springs on both keys and vocals\, joined by her all-female t
 rio.</p>
URL;VALUE=URI:https://events.getlocalhop.com/kandace-springs/event/xrwYUi4
 ImY/
END:VEVENT
END:VCALENDAR