BEGIN:VCALENDAR
VERSION:2.0
PRODID:-//events.getlocalhop.com//localhop-calendar//EN
URL:https://api.getlocalhop.com/calendar?instance=W3daRAUWwG&series=false
BEGIN:VEVENT
UID:event-instance-W3daRAUWwG@events.getlocalhop.com
SEQUENCE:0
DTSTAMP:20260422T170522Z
DTSTART:20210412T150000Z
DTEND:20210412T223000Z
SUMMARY:Craft pickup - Make a Magic Wand reading pointer
LOCATION:26300 Evergreen Road Southfield\, MI 48076
DESCRIPTION:You can have reading adventures with your own magic wand! Pick
  up a make and take craft bag at the Southfield Public Library on Monday\,
  April 12 between 11:00 am - 6:30 pm\, at the Southfield Public Library en
 trance. Use the craft items in the make and take bag\, or from your house\
 , to design your own magic wand. Use your magic wand to help you follow th
 e words on the page as you read. The magic of reading is all around you\, 
 put it to work with your magic wand!
URL;VALUE=URI:https://events.getlocalhop.com/craft-pickup-make-a-magic-wan
 d-reading-pointer/event/VNYy0oYVbX/
END:VEVENT
END:VCALENDAR