BEGIN:VCALENDAR
VERSION:2.0
PRODID:-//events.getlocalhop.com//localhop-calendar//EN
URL:https://api.getlocalhop.com/calendar?instance=VMSavLtBG4&series=false
BEGIN:VEVENT
UID:event-instance-VMSavLtBG4@events.getlocalhop.com
SEQUENCE:0
DTSTAMP:20260422T103952Z
DTSTART:20220823T140000Z
DTEND:20220823T190000Z
SUMMARY:Upcycle Craft Drop-In
LOCATION:Roseville Public Library\, 29777 Gratiot Avenue Roseville\, MI 48
 066
DESCRIPTION:<p>We are going to turn your trash into treasure! We will be h
 aving an open crafting day for all ages to give your old containers a seco
 nd life. You may bring any item you wish to decorate with you\, or use the
  Library-provided containers and decoration materials. Make whatever you l
 ike or follow provided steps to make the sample crafts.</p>\n<p>Drop in an
 ytime between 10am and 3pm to work on your craft. The program will take pl
 ace in the Youth Programming Room.</p>\n<p>*As this event is a drop-in eve
 nt\, the room will not be actively monitored for the duration of the progr
 am. Parents are asked to please monitor your child's safety with craft too
 ls and to try to prevent damage to library property (like tables\, chairs\
 , carpet\, and supplies) due to paint and glue. See the Librarian at the Y
 outh Reference Desk for assistance.</p>
URL;VALUE=URI:https://events.getlocalhop.com/upcycle-craft-dropin/event/Vb
 qQz8b6dG/
END:VEVENT
END:VCALENDAR