BEGIN:VCALENDAR
VERSION:2.0
PRODID:-//events.getlocalhop.com//localhop-calendar//EN
URL:https://api.getlocalhop.com/calendar?instance=V6rWOEpf0v&series=false
BEGIN:VEVENT
UID:event-instance-V6rWOEpf0v@events.getlocalhop.com
SEQUENCE:0
DTSTAMP:20260424T035935Z
DTSTART:20220810T150000Z
DTEND:20220810T160000Z
SUMMARY:Strategic Plan  Residents Focus Group
LOCATION:Sterling Heights Public Library\, 40255 Dodge Park Road Sterling 
 Heights\, MI 48313\, Programming Center
DESCRIPTION:<p>The Sterling Heights Public Library is conducting a Strateg
 ic Plan\, and we want your input! Register to attend a Residents Focus Gro
 up to give direct feedback and make suggestions on the library's services.
 &nbsp\;</p>\n<p>For more information\, call (586) 446-2665 or email shpl@l
 ibcoop.net.&nbsp\;</p>
URL;VALUE=URI:https://events.getlocalhop.com/strategic-plan-residents-focu
 s-group/event/zzG3ZYLnND/
END:VEVENT
END:VCALENDAR