BEGIN:VCALENDAR
VERSION:2.0
PRODID:-//events.getlocalhop.com//localhop-calendar//EN
URL:https://api.getlocalhop.com/calendar?instance=UzqPF6d3KX&series=false
BEGIN:VEVENT
UID:event-instance-UzqPF6d3KX@events.getlocalhop.com
SEQUENCE:0
DTSTAMP:20260424T053735Z
DTSTART:20211026T230000Z
DTEND:20211027T000000Z
SUMMARY:Art Unlimited: Paper Mache Masks
LOCATION:Glen Carbon Library\, 198 S Main Street Glen Carbon\, IL 62034\, 
 Youth Room
DESCRIPTION:Grades 6-12\nJoin Miss Sam at the library as we craft and crea
 te! Each month will feature a different art medium and project\, lasting t
 wo weeks. Get your creativity flowing with your friends in this socially d
 istanced program! \n\nThis is a two-time event\, and we do expect attendee
 s to come to both dates. Supplies are provided each month\, however\, you 
 are encouraged to bring your own or extras! Masks are required.\n\n2nd and
  4th Tuesday of the month at 6 pm\nOct. 12 & 26: Paper Mache Masks\nNov. 9
  & 23: Teen's Choice\nDec. 14: Ugly Art Night
URL;VALUE=URI:https://events.getlocalhop.com/art-unlimited-paper-mache-mas
 ks/event/GoA9BWBRmb/
END:VEVENT
END:VCALENDAR