BEGIN:VCALENDAR
VERSION:2.0
PRODID:-//events.getlocalhop.com//localhop-calendar//EN
URL:https://api.getlocalhop.com/calendar?instance=UNQ4ZL1UKU&series=false
BEGIN:VEVENT
UID:event-instance-UNQ4ZL1UKU@events.getlocalhop.com
SEQUENCE:0
DTSTAMP:20260423T132844Z
DTSTART:20230201T233000Z
DTEND:20230202T003000Z
SUMMARY:The Jersey: The mysterious disappearance of Bill White\, American 
 Baseball’s first Jackie Robinson
LOCATION:26300 Evergreen Road Southfield\, MI 48076\, Meeting Room
DESCRIPTION:<p>See Alvin Strane as he talks about his debut book\, The Jer
 sey: The mysterious disappearance of Bill White\, American Baseball&rsquo\
 ;s first Jackie Robinson.</p>\n<p><br />The Jersey brings a new dimension 
 to what it means to be an African-American \"first.\" It draws us into the
  history of passing that many African Americans considered a necessary sur
 vival strategy or a viable path to success in a racist America and acknowl
 edges the racial triumphs obscured by this phenomenon. Although the novel 
 unveils troubling aspects of our culture\, it also presents a story of a b
 udding romance and of female solidarity in the male-dominated world of pro
 fessional sports. Strane presents us with an enlighten-ing and ultimately 
 heart-warming read. Barbara J. Wilcots\, Ph.D. Vice President\, Students A
 ffairs Regis University Denver\, Colorado.</p>\n<p><br />Copies of The Jer
 sey will be available for sale and signing.</p>
URL;VALUE=URI:https://events.getlocalhop.com/the-jersey-the-mysterious-dis
 appearance-of-bill-white-american-baseballs-first-jackie-robinson/event/Tw
 RRryvkxA/
END:VEVENT
END:VCALENDAR