BEGIN:VCALENDAR
VERSION:2.0
PRODID:-//events.getlocalhop.com//localhop-calendar//EN
URL:https://api.getlocalhop.com/calendar?instance=TYSn6OGGII&series=false
BEGIN:VEVENT
UID:event-instance-TYSn6OGGII@events.getlocalhop.com
SEQUENCE:0
DTSTAMP:20260423T133801Z
DTSTART:20250506T193000Z
DTEND:20250506T203000Z
SUMMARY:Paint a Planter for Mom
LOCATION:Henika District Library\, 149 S MAIN ST Wayland\, MI 49348
DESCRIPTION:<p>Looking for a gift for your mom for Mother's Day? Kids ages
  5-10 can come paint a planter for their mom or special lady in their life
 ?&nbsp\;</p>\n<p>Due to limited supplies\, registration is required.&nbsp\
 ;</p>
URL;VALUE=URI:https://events.getlocalhop.com/paint-a-planter-for-mom/event
 /SyiTxgCGu0/
END:VEVENT
END:VCALENDAR