BEGIN:VCALENDAR
VERSION:2.0
PRODID:-//events.getlocalhop.com//localhop-calendar//EN
URL:https://api.getlocalhop.com/calendar?instance=TXOwN18VBX&series=false
BEGIN:VEVENT
UID:event-instance-TXOwN18VBX@events.getlocalhop.com
SEQUENCE:0
DTSTAMP:20260423T162501Z
DTSTART:20250913T170000Z
DTEND:20250913T180000Z
SUMMARY:Brunch & Learn - Omaha Zookeeper
LOCATION:Baright Public Library\, 5555 South 77th Street Ralston\, NE 6812
 7
DESCRIPTION:<p>What's is the difference between an endangered and a threat
 ened species? How many of the millions of animal species are close to exti
 nction? Join us on Saturday\, September 13\, for a fun and educational bru
 nch with a special guest from Omaha's Henry Doorly Zoo. We'll take a look 
 at some animals in need of protection and learn about the conservation eff
 orts happening at our zoo. This event is free to attend and open to everyo
 ne. Lunch will be provided by Lemon Tree Caf&eacute\;. We hope to see you 
 there!</p>
URL;VALUE=URI:https://events.getlocalhop.com/brunch-and-learn-omaha-zookee
 per/event/5SJIDBaqr5/
END:VEVENT
END:VCALENDAR