BEGIN:VCALENDAR
VERSION:2.0
PRODID:-//events.getlocalhop.com//localhop-calendar//EN
URL:https://api.getlocalhop.com/calendar?instance=TH1bUgWjAk&series=false
BEGIN:VEVENT
UID:event-instance-TH1bUgWjAk@events.getlocalhop.com
SEQUENCE:0
DTSTAMP:20260420T061941Z
DTSTART:20250416T203000Z
DTEND:20250416T213000Z
SUMMARY:Fandom Fun: Barbie
LOCATION:Youth Services - PWPL\, 217 N. Front St. Marquette\, MI 49855\, G
 reat Room
DESCRIPTION:<p>RESCHEDULED FROM MARCH 5</p>\n<p>Weekly programs based on f
 avorite book characters and other things kids love!</p>\n<p>&nbsp\;</p>\n<
 p>For youth of all ages who love Barbie! There will be a photo shoot\, a B
 arbie job station and more!</p>\n<p>&nbsp\;</p>\n<p>Children under the age
  of 8 must have an adult present with them and ready to assist them during
  this program.&nbsp\;</p>\n<p>&nbsp\;</p>\n<p>Questions about this event c
 an be directed to the Youth Services Department:</p>\n<p>906-226-4323 | <a
  href=\"mailto:ysdesk@pwpl.info\" target=\"_blank\" rel=\"noopener\">ysdes
 k@pwpl.info</a></p>\n<p>------------------------------------------</p>\n<p
 >Funded by the Friends of the Peter White Public Library</p>
URL;VALUE=URI:https://events.getlocalhop.com/fandom-fun-barbie/event/6DvT7
 KDFIy/
END:VEVENT
END:VCALENDAR