BEGIN:VCALENDAR
VERSION:2.0
PRODID:-//events.getlocalhop.com//localhop-calendar//EN
URL:https://api.getlocalhop.com/calendar?instance=TDCnfLYKfS&series=false
BEGIN:VEVENT
UID:event-instance-TDCnfLYKfS@events.getlocalhop.com
SEQUENCE:0
DTSTAMP:20260420T195031Z
DTSTART:20250417T160000Z
DTEND:20250417T200000Z
SUMMARY:Bake for Good  (W)
LOCATION:Manistee County Library - Wellston Branch\, 1273 Seaman Rd. Wells
 ton\, MI 49689
DESCRIPTION:<p>Don't you love the wonderful smell of fresh baking bread?</
 p>\n<p>Students will participate in the Bake for Good Program\, sponsored 
 by the Manistee County Library and the King Arthur Baking Company.&nbsp\; 
 In this program students learn to make yeast rolls from scratch.&nbsp\; St
 udents bake the recipe together\, at the library\, in the Norman Township 
 Hall kitchen\, and students are encouraged to share part of what they bake
  as an act of kindness.&nbsp\;</p>\n<p>This event is intended for children
 .&nbsp\;</p>\n<p>RSVP is required online or call 231-848-4013.&nbsp\;</p>
URL;VALUE=URI:https://events.getlocalhop.com/bake-for-good-w/event/nPrGfHq
 4co/
END:VEVENT
END:VCALENDAR