BEGIN:VCALENDAR
VERSION:2.0
PRODID:-//events.getlocalhop.com//localhop-calendar//EN
URL:https://api.getlocalhop.com/calendar?instance=T87jZxisTi&series=true
BEGIN:VEVENT
UID:event-instance-T87jZxisTi@events.getlocalhop.com
SEQUENCE:0
DTSTAMP:20260420T133453Z
DTSTART:20260507T183000Z
DTEND:20260507T210000Z
SUMMARY:Sewing with Barb
LOCATION:Franklin Public Library\, 9151 West Loomis Road Franklin\, WI 531
 32
DESCRIPTION:<p>Join Barb Garnier\, a Martha Pullen Licensed Sewing Instruc
 tor since 2003\, for sewing and comradery.&nbsp\;</p>\n<p>Bring your own p
 rojects to work on or use patterns provided by the instructor. Registratio
 n is required. You must bring your own sewing machine and supplies.&nbsp\;
 </p>\n<p>January 8th and 15th<br />February 5th and 12th&nbsp\;<br />March
  &nbsp\;5th and 12th&nbsp\;<br />April 2nd and 9th<br />May 7th and 14th<b
 r />June 4th and 11th<br />July 2nd and 9th<br />August 6th and 13th&nbsp\
 ;<br />September 3rd and 10th<br />October 1st and 8th<br />November 5th a
 nd 12th<br />December 3rd and 10th</p>
URL;VALUE=URI:https://events.getlocalhop.com/sewing-with-barb/event/4fBddq
 F0rE/
END:VEVENT
BEGIN:VEVENT
UID:event-instance-6pd7gRHhex@events.getlocalhop.com
SEQUENCE:0
DTSTAMP:20260420T133453Z
DTSTART:20260514T183000Z
DTEND:20260514T210000Z
SUMMARY:Sewing with Barb
LOCATION:Franklin Public Library\, 9151 West Loomis Road Franklin\, WI 531
 32
DESCRIPTION:<p>Join Barb Garnier\, a Martha Pullen Licensed Sewing Instruc
 tor since 2003\, for sewing and comradery.&nbsp\;</p>\n<p>Bring your own p
 rojects to work on or use patterns provided by the instructor. Registratio
 n is required. You must bring your own sewing machine and supplies.&nbsp\;
 </p>\n<p>January 8th and 15th<br />February 5th and 12th&nbsp\;<br />March
  &nbsp\;5th and 12th&nbsp\;<br />April 2nd and 9th<br />May 7th and 14th<b
 r />June 4th and 11th<br />July 2nd and 9th<br />August 6th and 13th&nbsp\
 ;<br />September 3rd and 10th<br />October 1st and 8th<br />November 5th a
 nd 12th<br />December 3rd and 10th</p>
URL;VALUE=URI:https://events.getlocalhop.com/sewing-with-barb/event/4fBddq
 F0rE/
END:VEVENT
BEGIN:VEVENT
UID:event-instance-bM59o40zJO@events.getlocalhop.com
SEQUENCE:0
DTSTAMP:20260420T133453Z
DTSTART:20260604T183000Z
DTEND:20260604T210000Z
SUMMARY:Sewing with Barb
LOCATION:Franklin Public Library\, 9151 West Loomis Road Franklin\, WI 531
 32
DESCRIPTION:<p>Join Barb Garnier\, a Martha Pullen Licensed Sewing Instruc
 tor since 2003\, for sewing and comradery.&nbsp\;</p>\n<p>Bring your own p
 rojects to work on or use patterns provided by the instructor. Registratio
 n is required. You must bring your own sewing machine and supplies.&nbsp\;
 </p>\n<p>January 8th and 15th<br />February 5th and 12th&nbsp\;<br />March
  &nbsp\;5th and 12th&nbsp\;<br />April 2nd and 9th<br />May 7th and 14th<b
 r />June 4th and 11th<br />July 2nd and 9th<br />August 6th and 13th&nbsp\
 ;<br />September 3rd and 10th<br />October 1st and 8th<br />November 5th a
 nd 12th<br />December 3rd and 10th</p>
URL;VALUE=URI:https://events.getlocalhop.com/sewing-with-barb/event/4fBddq
 F0rE/
END:VEVENT
BEGIN:VEVENT
UID:event-instance-a49UvUZwAy@events.getlocalhop.com
SEQUENCE:0
DTSTAMP:20260420T133453Z
DTSTART:20260611T183000Z
DTEND:20260611T210000Z
SUMMARY:Sewing with Barb
LOCATION:Franklin Public Library\, 9151 West Loomis Road Franklin\, WI 531
 32
DESCRIPTION:<p>Join Barb Garnier\, a Martha Pullen Licensed Sewing Instruc
 tor since 2003\, for sewing and comradery.&nbsp\;</p>\n<p>Bring your own p
 rojects to work on or use patterns provided by the instructor. Registratio
 n is required. You must bring your own sewing machine and supplies.&nbsp\;
 </p>\n<p>January 8th and 15th<br />February 5th and 12th&nbsp\;<br />March
  &nbsp\;5th and 12th&nbsp\;<br />April 2nd and 9th<br />May 7th and 14th<b
 r />June 4th and 11th<br />July 2nd and 9th<br />August 6th and 13th&nbsp\
 ;<br />September 3rd and 10th<br />October 1st and 8th<br />November 5th a
 nd 12th<br />December 3rd and 10th</p>
URL;VALUE=URI:https://events.getlocalhop.com/sewing-with-barb/event/4fBddq
 F0rE/
END:VEVENT
BEGIN:VEVENT
UID:event-instance-fU84FEGwnb@events.getlocalhop.com
SEQUENCE:0
DTSTAMP:20260420T133453Z
DTSTART:20260702T183000Z
DTEND:20260702T210000Z
SUMMARY:Sewing with Barb
LOCATION:Franklin Public Library\, 9151 West Loomis Road Franklin\, WI 531
 32
DESCRIPTION:<p>Join Barb Garnier\, a Martha Pullen Licensed Sewing Instruc
 tor since 2003\, for sewing and comradery.&nbsp\;</p>\n<p>Bring your own p
 rojects to work on or use patterns provided by the instructor. Registratio
 n is required. You must bring your own sewing machine and supplies.&nbsp\;
 </p>\n<p>January 8th and 15th<br />February 5th and 12th&nbsp\;<br />March
  &nbsp\;5th and 12th&nbsp\;<br />April 2nd and 9th<br />May 7th and 14th<b
 r />June 4th and 11th<br />July 2nd and 9th<br />August 6th and 13th&nbsp\
 ;<br />September 3rd and 10th<br />October 1st and 8th<br />November 5th a
 nd 12th<br />December 3rd and 10th</p>
URL;VALUE=URI:https://events.getlocalhop.com/sewing-with-barb/event/4fBddq
 F0rE/
END:VEVENT
BEGIN:VEVENT
UID:event-instance-WO6mMEn5np@events.getlocalhop.com
SEQUENCE:0
DTSTAMP:20260420T133453Z
DTSTART:20260709T183000Z
DTEND:20260709T210000Z
SUMMARY:Sewing with Barb
LOCATION:Franklin Public Library\, 9151 West Loomis Road Franklin\, WI 531
 32
DESCRIPTION:<p>Join Barb Garnier\, a Martha Pullen Licensed Sewing Instruc
 tor since 2003\, for sewing and comradery.&nbsp\;</p>\n<p>Bring your own p
 rojects to work on or use patterns provided by the instructor. Registratio
 n is required. You must bring your own sewing machine and supplies.&nbsp\;
 </p>\n<p>January 8th and 15th<br />February 5th and 12th&nbsp\;<br />March
  &nbsp\;5th and 12th&nbsp\;<br />April 2nd and 9th<br />May 7th and 14th<b
 r />June 4th and 11th<br />July 2nd and 9th<br />August 6th and 13th&nbsp\
 ;<br />September 3rd and 10th<br />October 1st and 8th<br />November 5th a
 nd 12th<br />December 3rd and 10th</p>
URL;VALUE=URI:https://events.getlocalhop.com/sewing-with-barb/event/4fBddq
 F0rE/
END:VEVENT
BEGIN:VEVENT
UID:event-instance-OZzBWjtO24@events.getlocalhop.com
SEQUENCE:0
DTSTAMP:20260420T133453Z
DTSTART:20260806T183000Z
DTEND:20260806T210000Z
SUMMARY:Sewing with Barb
LOCATION:Franklin Public Library\, 9151 West Loomis Road Franklin\, WI 531
 32
DESCRIPTION:<p>Join Barb Garnier\, a Martha Pullen Licensed Sewing Instruc
 tor since 2003\, for sewing and comradery.&nbsp\;</p>\n<p>Bring your own p
 rojects to work on or use patterns provided by the instructor. Registratio
 n is required. You must bring your own sewing machine and supplies.&nbsp\;
 </p>\n<p>January 8th and 15th<br />February 5th and 12th&nbsp\;<br />March
  &nbsp\;5th and 12th&nbsp\;<br />April 2nd and 9th<br />May 7th and 14th<b
 r />June 4th and 11th<br />July 2nd and 9th<br />August 6th and 13th&nbsp\
 ;<br />September 3rd and 10th<br />October 1st and 8th<br />November 5th a
 nd 12th<br />December 3rd and 10th</p>
URL;VALUE=URI:https://events.getlocalhop.com/sewing-with-barb/event/4fBddq
 F0rE/
END:VEVENT
BEGIN:VEVENT
UID:event-instance-vHjZxIDY3l@events.getlocalhop.com
SEQUENCE:0
DTSTAMP:20260420T133453Z
DTSTART:20260813T183000Z
DTEND:20260813T210000Z
SUMMARY:Sewing with Barb
LOCATION:Franklin Public Library\, 9151 West Loomis Road Franklin\, WI 531
 32
DESCRIPTION:<p>Join Barb Garnier\, a Martha Pullen Licensed Sewing Instruc
 tor since 2003\, for sewing and comradery.&nbsp\;</p>\n<p>Bring your own p
 rojects to work on or use patterns provided by the instructor. Registratio
 n is required. You must bring your own sewing machine and supplies.&nbsp\;
 </p>\n<p>January 8th and 15th<br />February 5th and 12th&nbsp\;<br />March
  &nbsp\;5th and 12th&nbsp\;<br />April 2nd and 9th<br />May 7th and 14th<b
 r />June 4th and 11th<br />July 2nd and 9th<br />August 6th and 13th&nbsp\
 ;<br />September 3rd and 10th<br />October 1st and 8th<br />November 5th a
 nd 12th<br />December 3rd and 10th</p>
URL;VALUE=URI:https://events.getlocalhop.com/sewing-with-barb/event/4fBddq
 F0rE/
END:VEVENT
BEGIN:VEVENT
UID:event-instance-9Ry3xh1YMF@events.getlocalhop.com
SEQUENCE:0
DTSTAMP:20260420T133453Z
DTSTART:20260903T183000Z
DTEND:20260903T210000Z
SUMMARY:Sewing with Barb
LOCATION:Franklin Public Library\, 9151 West Loomis Road Franklin\, WI 531
 32
DESCRIPTION:<p>Join Barb Garnier\, a Martha Pullen Licensed Sewing Instruc
 tor since 2003\, for sewing and comradery.&nbsp\;</p>\n<p>Bring your own p
 rojects to work on or use patterns provided by the instructor. Registratio
 n is required. You must bring your own sewing machine and supplies.&nbsp\;
 </p>\n<p>January 8th and 15th<br />February 5th and 12th&nbsp\;<br />March
  &nbsp\;5th and 12th&nbsp\;<br />April 2nd and 9th<br />May 7th and 14th<b
 r />June 4th and 11th<br />July 2nd and 9th<br />August 6th and 13th&nbsp\
 ;<br />September 3rd and 10th<br />October 1st and 8th<br />November 5th a
 nd 12th<br />December 3rd and 10th</p>
URL;VALUE=URI:https://events.getlocalhop.com/sewing-with-barb/event/4fBddq
 F0rE/
END:VEVENT
BEGIN:VEVENT
UID:event-instance-AKwS6ZLV3o@events.getlocalhop.com
SEQUENCE:0
DTSTAMP:20260420T133453Z
DTSTART:20260910T183000Z
DTEND:20260910T210000Z
SUMMARY:Sewing with Barb
LOCATION:Franklin Public Library\, 9151 West Loomis Road Franklin\, WI 531
 32
DESCRIPTION:<p>Join Barb Garnier\, a Martha Pullen Licensed Sewing Instruc
 tor since 2003\, for sewing and comradery.&nbsp\;</p>\n<p>Bring your own p
 rojects to work on or use patterns provided by the instructor. Registratio
 n is required. You must bring your own sewing machine and supplies.&nbsp\;
 </p>\n<p>January 8th and 15th<br />February 5th and 12th&nbsp\;<br />March
  &nbsp\;5th and 12th&nbsp\;<br />April 2nd and 9th<br />May 7th and 14th<b
 r />June 4th and 11th<br />July 2nd and 9th<br />August 6th and 13th&nbsp\
 ;<br />September 3rd and 10th<br />October 1st and 8th<br />November 5th a
 nd 12th<br />December 3rd and 10th</p>
URL;VALUE=URI:https://events.getlocalhop.com/sewing-with-barb/event/4fBddq
 F0rE/
END:VEVENT
BEGIN:VEVENT
UID:event-instance-P5JqHl4FeV@events.getlocalhop.com
SEQUENCE:0
DTSTAMP:20260420T133453Z
DTSTART:20261001T183000Z
DTEND:20261001T210000Z
SUMMARY:Sewing with Barb
LOCATION:Franklin Public Library\, 9151 West Loomis Road Franklin\, WI 531
 32
DESCRIPTION:<p>Join Barb Garnier\, a Martha Pullen Licensed Sewing Instruc
 tor since 2003\, for sewing and comradery.&nbsp\;</p>\n<p>Bring your own p
 rojects to work on or use patterns provided by the instructor. Registratio
 n is required. You must bring your own sewing machine and supplies.&nbsp\;
 </p>\n<p>January 8th and 15th<br />February 5th and 12th&nbsp\;<br />March
  &nbsp\;5th and 12th&nbsp\;<br />April 2nd and 9th<br />May 7th and 14th<b
 r />June 4th and 11th<br />July 2nd and 9th<br />August 6th and 13th&nbsp\
 ;<br />September 3rd and 10th<br />October 1st and 8th<br />November 5th a
 nd 12th<br />December 3rd and 10th</p>
URL;VALUE=URI:https://events.getlocalhop.com/sewing-with-barb/event/4fBddq
 F0rE/
END:VEVENT
BEGIN:VEVENT
UID:event-instance-wmA4tLGbsz@events.getlocalhop.com
SEQUENCE:0
DTSTAMP:20260420T133453Z
DTSTART:20261008T183000Z
DTEND:20261008T210000Z
SUMMARY:Sewing with Barb
LOCATION:Franklin Public Library\, 9151 West Loomis Road Franklin\, WI 531
 32
DESCRIPTION:<p>Join Barb Garnier\, a Martha Pullen Licensed Sewing Instruc
 tor since 2003\, for sewing and comradery.&nbsp\;</p>\n<p>Bring your own p
 rojects to work on or use patterns provided by the instructor. Registratio
 n is required. You must bring your own sewing machine and supplies.&nbsp\;
 </p>\n<p>January 8th and 15th<br />February 5th and 12th&nbsp\;<br />March
  &nbsp\;5th and 12th&nbsp\;<br />April 2nd and 9th<br />May 7th and 14th<b
 r />June 4th and 11th<br />July 2nd and 9th<br />August 6th and 13th&nbsp\
 ;<br />September 3rd and 10th<br />October 1st and 8th<br />November 5th a
 nd 12th<br />December 3rd and 10th</p>
URL;VALUE=URI:https://events.getlocalhop.com/sewing-with-barb/event/4fBddq
 F0rE/
END:VEVENT
BEGIN:VEVENT
UID:event-instance-AYGLQ9MQAE@events.getlocalhop.com
SEQUENCE:0
DTSTAMP:20260420T133453Z
DTSTART:20261105T193000Z
DTEND:20261105T220000Z
SUMMARY:Sewing with Barb
LOCATION:Franklin Public Library\, 9151 West Loomis Road Franklin\, WI 531
 32
DESCRIPTION:<p>Join Barb Garnier\, a Martha Pullen Licensed Sewing Instruc
 tor since 2003\, for sewing and comradery.&nbsp\;</p>\n<p>Bring your own p
 rojects to work on or use patterns provided by the instructor. Registratio
 n is required. You must bring your own sewing machine and supplies.&nbsp\;
 </p>\n<p>January 8th and 15th<br />February 5th and 12th&nbsp\;<br />March
  &nbsp\;5th and 12th&nbsp\;<br />April 2nd and 9th<br />May 7th and 14th<b
 r />June 4th and 11th<br />July 2nd and 9th<br />August 6th and 13th&nbsp\
 ;<br />September 3rd and 10th<br />October 1st and 8th<br />November 5th a
 nd 12th<br />December 3rd and 10th</p>
URL;VALUE=URI:https://events.getlocalhop.com/sewing-with-barb/event/4fBddq
 F0rE/
END:VEVENT
BEGIN:VEVENT
UID:event-instance-hmJXTgIseh@events.getlocalhop.com
SEQUENCE:0
DTSTAMP:20260420T133453Z
DTSTART:20261112T193000Z
DTEND:20261112T220000Z
SUMMARY:Sewing with Barb
LOCATION:Franklin Public Library\, 9151 West Loomis Road Franklin\, WI 531
 32
DESCRIPTION:<p>Join Barb Garnier\, a Martha Pullen Licensed Sewing Instruc
 tor since 2003\, for sewing and comradery.&nbsp\;</p>\n<p>Bring your own p
 rojects to work on or use patterns provided by the instructor. Registratio
 n is required. You must bring your own sewing machine and supplies.&nbsp\;
 </p>\n<p>January 8th and 15th<br />February 5th and 12th&nbsp\;<br />March
  &nbsp\;5th and 12th&nbsp\;<br />April 2nd and 9th<br />May 7th and 14th<b
 r />June 4th and 11th<br />July 2nd and 9th<br />August 6th and 13th&nbsp\
 ;<br />September 3rd and 10th<br />October 1st and 8th<br />November 5th a
 nd 12th<br />December 3rd and 10th</p>
URL;VALUE=URI:https://events.getlocalhop.com/sewing-with-barb/event/4fBddq
 F0rE/
END:VEVENT
BEGIN:VEVENT
UID:event-instance-vEMzbuoqup@events.getlocalhop.com
SEQUENCE:0
DTSTAMP:20260420T133453Z
DTSTART:20261203T193000Z
DTEND:20261203T220000Z
SUMMARY:Sewing with Barb
LOCATION:Franklin Public Library\, 9151 West Loomis Road Franklin\, WI 531
 32
DESCRIPTION:<p>Join Barb Garnier\, a Martha Pullen Licensed Sewing Instruc
 tor since 2003\, for sewing and comradery.&nbsp\;</p>\n<p>Bring your own p
 rojects to work on or use patterns provided by the instructor. Registratio
 n is required. You must bring your own sewing machine and supplies.&nbsp\;
 </p>\n<p>January 8th and 15th<br />February 5th and 12th&nbsp\;<br />March
  &nbsp\;5th and 12th&nbsp\;<br />April 2nd and 9th<br />May 7th and 14th<b
 r />June 4th and 11th<br />July 2nd and 9th<br />August 6th and 13th&nbsp\
 ;<br />September 3rd and 10th<br />October 1st and 8th<br />November 5th a
 nd 12th<br />December 3rd and 10th</p>
URL;VALUE=URI:https://events.getlocalhop.com/sewing-with-barb/event/4fBddq
 F0rE/
END:VEVENT
BEGIN:VEVENT
UID:event-instance-12OUxCzrD8@events.getlocalhop.com
SEQUENCE:0
DTSTAMP:20260420T133453Z
DTSTART:20261210T193000Z
DTEND:20261210T220000Z
SUMMARY:Sewing with Barb
LOCATION:Franklin Public Library\, 9151 West Loomis Road Franklin\, WI 531
 32
DESCRIPTION:<p>Join Barb Garnier\, a Martha Pullen Licensed Sewing Instruc
 tor since 2003\, for sewing and comradery.&nbsp\;</p>\n<p>Bring your own p
 rojects to work on or use patterns provided by the instructor. Registratio
 n is required. You must bring your own sewing machine and supplies.&nbsp\;
 </p>\n<p>January 8th and 15th<br />February 5th and 12th&nbsp\;<br />March
  &nbsp\;5th and 12th&nbsp\;<br />April 2nd and 9th<br />May 7th and 14th<b
 r />June 4th and 11th<br />July 2nd and 9th<br />August 6th and 13th&nbsp\
 ;<br />September 3rd and 10th<br />October 1st and 8th<br />November 5th a
 nd 12th<br />December 3rd and 10th</p>
URL;VALUE=URI:https://events.getlocalhop.com/sewing-with-barb/event/4fBddq
 F0rE/
END:VEVENT
END:VCALENDAR