BEGIN:VCALENDAR
VERSION:2.0
PRODID:-//events.getlocalhop.com//localhop-calendar//EN
URL:https://api.getlocalhop.com/calendar?instance=T87jZxisTi&series=false
BEGIN:VEVENT
UID:event-instance-T87jZxisTi@events.getlocalhop.com
SEQUENCE:0
DTSTAMP:20260420T133910Z
DTSTART:20260507T183000Z
DTEND:20260507T210000Z
SUMMARY:Sewing with Barb
LOCATION:Franklin Public Library\, 9151 West Loomis Road Franklin\, WI 531
 32
DESCRIPTION:<p>Join Barb Garnier\, a Martha Pullen Licensed Sewing Instruc
 tor since 2003\, for sewing and comradery.&nbsp\;</p>\n<p>Bring your own p
 rojects to work on or use patterns provided by the instructor. Registratio
 n is required. You must bring your own sewing machine and supplies.&nbsp\;
 </p>\n<p>January 8th and 15th<br />February 5th and 12th&nbsp\;<br />March
  &nbsp\;5th and 12th&nbsp\;<br />April 2nd and 9th<br />May 7th and 14th<b
 r />June 4th and 11th<br />July 2nd and 9th<br />August 6th and 13th&nbsp\
 ;<br />September 3rd and 10th<br />October 1st and 8th<br />November 5th a
 nd 12th<br />December 3rd and 10th</p>
URL;VALUE=URI:https://events.getlocalhop.com/sewing-with-barb/event/4fBddq
 F0rE/
END:VEVENT
END:VCALENDAR