BEGIN:VCALENDAR
VERSION:2.0
PRODID:-//events.getlocalhop.com//localhop-calendar//EN
URL:https://api.getlocalhop.com/calendar?instance=Sz4IQaJxvs&series=false
BEGIN:VEVENT
UID:event-instance-Sz4IQaJxvs@events.getlocalhop.com
SEQUENCE:0
DTSTAMP:20260419T124951Z
DTSTART:20240312T220000Z
DTEND:20240312T223000Z
SUMMARY:Oreo Madness
LOCATION:Community Room - Brandon Township Public Library\, 304 SOUTH ST O
 RTONVILLE\, MI 48462\, Community Room
DESCRIPTION:<p>Move over March Madness--Oreo Madness is here! Join us for 
 an Oreo taste test. Different flavors will \"compete\" and participants wi
 ll vote for their favorite flavor until the Ultimate Oreo Champion is deci
 ded upon. Bring your appetites! Ages 5-17.&nbsp\;</p>
URL;VALUE=URI:https://events.getlocalhop.com/oreo-madness/event/3G0vGM2y6P
 /
END:VEVENT
END:VCALENDAR