BEGIN:VCALENDAR
VERSION:2.0
PRODID:-//events.getlocalhop.com//localhop-calendar//EN
URL:https://api.getlocalhop.com/calendar?instance=Sq9liACeO0&series=true
BEGIN:VEVENT
UID:event-instance-Sq9liACeO0@events.getlocalhop.com
SEQUENCE:0
DTSTAMP:20260422T133906Z
DTSTART:20260427T141500Z
DTEND:20260427T150000Z
SUMMARY:Family Fun Storytime
LOCATION:Salem-South Lyon District Library\, 9800 Pontiac Tr South Lyon\, 
 MI 48178
DESCRIPTION:<p><strong>For baby-5 years with a caregiver.</strong></p>\n<p
 >Salem-South Lyon District Library offers enhanced storytimes that are lit
 eracy focused and designed to engage your little future reader. Enjoy 30 m
 inutes of stories\, songs and rhymes followed by an opportunity for peer s
 ocializing during open play time. Children of all abilities are welcome. <
 strong>&nbsp\;Pre-registration is encouraged for each child attending.</st
 rong></p>\n<p>&nbsp\;</p>\n<p>For more information or to request accessibi
 lity accommodations please contact Youth Services at 248-437-6431 or email
  youthdepartment@ssldl.info.&nbsp\;</p>
URL;VALUE=URI:https://events.getlocalhop.com/family-fun-storytime/event/Ld
 LNZJB7kG/
END:VEVENT
BEGIN:VEVENT
UID:event-instance-a7LhaaXLi4@events.getlocalhop.com
SEQUENCE:0
DTSTAMP:20260422T133906Z
DTSTART:20260504T141500Z
DTEND:20260504T150000Z
SUMMARY:Family Fun Storytime
LOCATION:Salem-South Lyon District Library\, 9800 Pontiac Tr South Lyon\, 
 MI 48178
DESCRIPTION:<p><strong>For baby-5 years with a caregiver.</strong></p>\n<p
 >Salem-South Lyon District Library offers enhanced storytimes that are lit
 eracy focused and designed to engage your little future reader. Enjoy 30 m
 inutes of stories\, songs and rhymes followed by an opportunity for peer s
 ocializing during open play time. Children of all abilities are welcome. <
 strong>&nbsp\;Pre-registration is encouraged for each child attending.</st
 rong></p>\n<p>&nbsp\;</p>\n<p>For more information or to request accessibi
 lity accommodations please contact Youth Services at 248-437-6431 or email
  youthdepartment@ssldl.info.&nbsp\;</p>
URL;VALUE=URI:https://events.getlocalhop.com/family-fun-storytime/event/Ld
 LNZJB7kG/
END:VEVENT
BEGIN:VEVENT
UID:event-instance-HrSEARRXh7@events.getlocalhop.com
SEQUENCE:0
DTSTAMP:20260422T133906Z
DTSTART:20260511T141500Z
DTEND:20260511T150000Z
SUMMARY:Family Fun Storytime
LOCATION:Salem-South Lyon District Library\, 9800 Pontiac Tr South Lyon\, 
 MI 48178
DESCRIPTION:<p><strong>For baby-5 years with a caregiver.</strong></p>\n<p
 >Salem-South Lyon District Library offers enhanced storytimes that are lit
 eracy focused and designed to engage your little future reader. Enjoy 30 m
 inutes of stories\, songs and rhymes followed by an opportunity for peer s
 ocializing during open play time. Children of all abilities are welcome. <
 strong>&nbsp\;Pre-registration is encouraged for each child attending.</st
 rong></p>\n<p>&nbsp\;</p>\n<p>For more information or to request accessibi
 lity accommodations please contact Youth Services at 248-437-6431 or email
  youthdepartment@ssldl.info.&nbsp\;</p>
URL;VALUE=URI:https://events.getlocalhop.com/family-fun-storytime/event/Ld
 LNZJB7kG/
END:VEVENT
END:VCALENDAR