BEGIN:VCALENDAR
VERSION:2.0
PRODID:-//events.getlocalhop.com//localhop-calendar//EN
URL:https://api.getlocalhop.com/calendar?instance=RvSMrPwb7j&series=false
BEGIN:VEVENT
UID:event-instance-RvSMrPwb7j@events.getlocalhop.com
SEQUENCE:0
DTSTAMP:20260421T030828Z
DTSTART:20180623T133000Z
DTEND:20180623T210000Z
SUMMARY:American Red Cross Babysitter Certification Class
LOCATION:300 West Merrill Street Birmingham\, MI 48009\, Rotary/Donor Room
 s Combined
DESCRIPTION:Learn skills needed while babysitting. Those who complete the 
 training will receive a certificate through e-mail after the program. Ages
  11-15. Please register\, space is limited. $30 fee.
URL;VALUE=URI:https://events.getlocalhop.com/american-red-cross-babysitter
 -certification-class/event/vVUuLkpr7v/
END:VEVENT
END:VCALENDAR