BEGIN:VCALENDAR
VERSION:2.0
PRODID:-//events.getlocalhop.com//localhop-calendar//EN
URL:https://api.getlocalhop.com/calendar?instance=RtL3Ev5Zpk&series=false
BEGIN:VEVENT
UID:event-instance-RtL3Ev5Zpk@events.getlocalhop.com
SEQUENCE:0
DTSTAMP:20260421T152757Z
DTSTART:20240506T193000Z
DTEND:20240506T203000Z
SUMMARY:Floral Wall Pocket Kid's Craft Workshop (M)
LOCATION:Manistee County Library\, 95 Maple Street Manistee\, MI 49660\, M
 eeting Room
DESCRIPTION:<p>Children of all ages are invited to join us for a floral cr
 aft workshop. Use this as an opportunity to make something for a lovely la
 dy in your life\, just in time for Mother's Day or squirrel it away for an
 other special occasion! This craft is best suited for the abilities of ele
 mentary-age school children. Those younger will require adult assistance f
 rom their parent/guardian.</p>\n<p>Registration is required as supplies ar
 e limited.</p>
URL;VALUE=URI:https://events.getlocalhop.com/floral-wall-pocket-kids-craft
 -workshop-m/event/MRxcMf3qZb/
END:VEVENT
END:VCALENDAR