BEGIN:VCALENDAR
VERSION:2.0
PRODID:-//events.getlocalhop.com//localhop-calendar//EN
URL:https://api.getlocalhop.com/calendar?instance=RQEH8htbdB&series=false
BEGIN:VEVENT
UID:event-instance-RQEH8htbdB@events.getlocalhop.com
SEQUENCE:0
DTSTAMP:20260422T092344Z
DTSTART:20260505T230000Z
DTEND:20260506T000000Z
SUMMARY:Life is a Beach Meditation
LOCATION:Franklin Public Library\, 9151 West Loomis Road Franklin\, WI 531
 32
DESCRIPTION:<p>Join Kathryn Rambo for a guided meditation\, transporting y
 ou to the beautiful sandy beach and calming waves. Registration is require
 d and begins April 21 at 9am.</p>
URL;VALUE=URI:https://events.getlocalhop.com/life-is-a-beach-meditation/ev
 ent/4llMC8AZx2/
END:VEVENT
END:VCALENDAR