BEGIN:VCALENDAR
VERSION:2.0
PRODID:-//events.getlocalhop.com//localhop-calendar//EN
URL:https://api.getlocalhop.com/calendar?instance=RB3nA9FlFG&series=false
BEGIN:VEVENT
UID:event-instance-RB3nA9FlFG@events.getlocalhop.com
SEQUENCE:0
DTSTAMP:20260423T144417Z
DTSTART:20260406T220000Z
DTEND:20260406T230000Z
SUMMARY:Paint & Snack
LOCATION:Puskarich Public Library\, 200 E. Market St. Cadiz\, OH 43907
DESCRIPTION:<p>Put on your artist hat and make some \"happy accidents\" wi
 th Bob Ross. We will follow along with a Bob Ross painting video while eat
 ing snacks. All materials (and snacks) will be supplied. Please register o
 nline or call 740-942-2623.</p>
URL;VALUE=URI:https://events.getlocalhop.com/paint-and-snack/event/30oXtjV
 7VZ/
END:VEVENT
END:VCALENDAR