BEGIN:VCALENDAR
VERSION:2.0
PRODID:-//events.getlocalhop.com//localhop-calendar//EN
URL:https://api.getlocalhop.com/calendar?instance=QiuzHgN1Iv&series=false
BEGIN:VEVENT
UID:event-instance-QiuzHgN1Iv@events.getlocalhop.com
SEQUENCE:0
DTSTAMP:20260421T160838Z
DTSTART:20191023T210000Z
DTEND:20191023T220000Z
SUMMARY:Witches\, Wizards\, Potions and Magic! - Metamora
LOCATION:Metamora Library\, 4018 Oak Street Metamora\, MI 48455
DESCRIPTION:***THIS EVENT WILL BE RESCHEDULED FOR JANUARY/FEBRUARY 2020. P
 LEASE CONTACT THE METAMORA BRANCH LIBRARY FOR MORE INFORMATION***\nWitches
 \, Wizards\, Potions and Magic: Step into another world full of wizards an
 d witches. Explore magic\, design\nyour own wand to cast spells and create
  potions. Audience: 8 – 12 year olds.
URL;VALUE=URI:https://events.getlocalhop.com/witches-wizards-potions-and-m
 agic-metamora/event/lWCTAfUMXx/
END:VEVENT
END:VCALENDAR