BEGIN:VCALENDAR
VERSION:2.0
PRODID:-//events.getlocalhop.com//localhop-calendar//EN
URL:https://api.getlocalhop.com/calendar?instance=QWqj392usl&series=false
BEGIN:VEVENT
UID:event-instance-QWqj392usl@events.getlocalhop.com
SEQUENCE:0
DTSTAMP:20260422T105714Z
DTSTART:20250221T000000Z
DTEND:20250221T010000Z
SUMMARY:Sip  & Listen : Adult Story TIme
LOCATION:Good Works Brewing Co.\, 237 Parkview Dr. Milton\, WI 53563
DESCRIPTION:<p>Thursday\, February 20\, 6-7 pm at&nbsp\;Good Works Brewing
  Company</p>\n<p>Who says stories are just for kids? Come and listen to so
 me&nbsp\;local talent read short narratives while enjoying the relaxed&nbs
 p\;atmosphere of Good Works Brewing Company. Beverages will be available f
 or purchase. Please register by February 17. Registration appreciated.</p>
URL;VALUE=URI:https://events.getlocalhop.com/sip-and-listen-adult-story-ti
 me/event/uTZIOpDAtN/
END:VEVENT
END:VCALENDAR