BEGIN:VCALENDAR
VERSION:2.0
PRODID:-//events.getlocalhop.com//localhop-calendar//EN
URL:https://api.getlocalhop.com/calendar?instance=QVaC7TcLg5&series=true
BEGIN:VEVENT
UID:event-instance-QVaC7TcLg5@events.getlocalhop.com
SEQUENCE:0
DTSTAMP:20260423T163331Z
DTSTART:20260501T140000Z
DTEND:20260501T150000Z
SUMMARY:Power Hour Fridays
LOCATION:Scio Branch Library\, 331 W. Main St. Scio\, OH 43988
DESCRIPTION:<p>Scio Branch Library is inviting you to a new event: Power H
 our Fridays\, which will take place from 10:00-11:00am at Scio Branch. Jos
 eph Maiorano\, Ohio State University Extension Instructor\, will lead part
 icipants in fitness events for anyone yet designed for persons with limite
 d mobility\, including senior citizens. The hour is comprised of a warmup\
 , then a few Zumba Gold Dances\, and last\, a time of no-impact stretching
 . Call 740-945-6811 for more information.&nbsp\;</p>
URL;VALUE=URI:https://events.getlocalhop.com/power-hour-fridays/event/utCF
 NIbvrt/
END:VEVENT
BEGIN:VEVENT
UID:event-instance-InIG4HWdQA@events.getlocalhop.com
SEQUENCE:0
DTSTAMP:20260423T163331Z
DTSTART:20260508T140000Z
DTEND:20260508T150000Z
SUMMARY:Power Hour Fridays
LOCATION:Scio Branch Library\, 331 W. Main St. Scio\, OH 43988
DESCRIPTION:<p>Scio Branch Library is inviting you to a new event: Power H
 our Fridays\, which will take place from 10:00-11:00am at Scio Branch. Jos
 eph Maiorano\, Ohio State University Extension Instructor\, will lead part
 icipants in fitness events for anyone yet designed for persons with limite
 d mobility\, including senior citizens. The hour is comprised of a warmup\
 , then a few Zumba Gold Dances\, and last\, a time of no-impact stretching
 . Call 740-945-6811 for more information.&nbsp\;</p>
URL;VALUE=URI:https://events.getlocalhop.com/power-hour-fridays/event/utCF
 NIbvrt/
END:VEVENT
BEGIN:VEVENT
UID:event-instance-jybj8gmRlj@events.getlocalhop.com
SEQUENCE:0
DTSTAMP:20260423T163331Z
DTSTART:20260515T140000Z
DTEND:20260515T150000Z
SUMMARY:Power Hour Fridays
LOCATION:Scio Branch Library\, 331 W. Main St. Scio\, OH 43988
DESCRIPTION:<p>Scio Branch Library is inviting you to a new event: Power H
 our Fridays\, which will take place from 10:00-11:00am at Scio Branch. Jos
 eph Maiorano\, Ohio State University Extension Instructor\, will lead part
 icipants in fitness events for anyone yet designed for persons with limite
 d mobility\, including senior citizens. The hour is comprised of a warmup\
 , then a few Zumba Gold Dances\, and last\, a time of no-impact stretching
 . Call 740-945-6811 for more information.&nbsp\;</p>
URL;VALUE=URI:https://events.getlocalhop.com/power-hour-fridays/event/utCF
 NIbvrt/
END:VEVENT
BEGIN:VEVENT
UID:event-instance-9teg1AgQwE@events.getlocalhop.com
SEQUENCE:0
DTSTAMP:20260423T163331Z
DTSTART:20260522T140000Z
DTEND:20260522T150000Z
SUMMARY:Power Hour Fridays
LOCATION:Scio Branch Library\, 331 W. Main St. Scio\, OH 43988
DESCRIPTION:<p>Scio Branch Library is inviting you to a new event: Power H
 our Fridays\, which will take place from 10:00-11:00am at Scio Branch. Jos
 eph Maiorano\, Ohio State University Extension Instructor\, will lead part
 icipants in fitness events for anyone yet designed for persons with limite
 d mobility\, including senior citizens. The hour is comprised of a warmup\
 , then a few Zumba Gold Dances\, and last\, a time of no-impact stretching
 . Call 740-945-6811 for more information.&nbsp\;</p>
URL;VALUE=URI:https://events.getlocalhop.com/power-hour-fridays/event/utCF
 NIbvrt/
END:VEVENT
BEGIN:VEVENT
UID:event-instance-wfBkMsHK17@events.getlocalhop.com
SEQUENCE:0
DTSTAMP:20260423T163331Z
DTSTART:20260529T140000Z
DTEND:20260529T150000Z
SUMMARY:Power Hour Fridays
LOCATION:Scio Branch Library\, 331 W. Main St. Scio\, OH 43988
DESCRIPTION:<p>Scio Branch Library is inviting you to a new event: Power H
 our Fridays\, which will take place from 10:00-11:00am at Scio Branch. Jos
 eph Maiorano\, Ohio State University Extension Instructor\, will lead part
 icipants in fitness events for anyone yet designed for persons with limite
 d mobility\, including senior citizens. The hour is comprised of a warmup\
 , then a few Zumba Gold Dances\, and last\, a time of no-impact stretching
 . Call 740-945-6811 for more information.&nbsp\;</p>
URL;VALUE=URI:https://events.getlocalhop.com/power-hour-fridays/event/utCF
 NIbvrt/
END:VEVENT
BEGIN:VEVENT
UID:event-instance-TFX75qXR2A@events.getlocalhop.com
SEQUENCE:0
DTSTAMP:20260423T163331Z
DTSTART:20260605T140000Z
DTEND:20260605T150000Z
SUMMARY:Power Hour Fridays
LOCATION:Scio Branch Library\, 331 W. Main St. Scio\, OH 43988
DESCRIPTION:<p>Scio Branch Library is inviting you to a new event: Power H
 our Fridays\, which will take place from 10:00-11:00am at Scio Branch. Jos
 eph Maiorano\, Ohio State University Extension Instructor\, will lead part
 icipants in fitness events for anyone yet designed for persons with limite
 d mobility\, including senior citizens. The hour is comprised of a warmup\
 , then a few Zumba Gold Dances\, and last\, a time of no-impact stretching
 . Call 740-945-6811 for more information.&nbsp\;</p>
URL;VALUE=URI:https://events.getlocalhop.com/power-hour-fridays/event/utCF
 NIbvrt/
END:VEVENT
BEGIN:VEVENT
UID:event-instance-36C8SsFw3j@events.getlocalhop.com
SEQUENCE:0
DTSTAMP:20260423T163331Z
DTSTART:20260612T140000Z
DTEND:20260612T150000Z
SUMMARY:Power Hour Fridays
LOCATION:Scio Branch Library\, 331 W. Main St. Scio\, OH 43988
DESCRIPTION:<p>Scio Branch Library is inviting you to a new event: Power H
 our Fridays\, which will take place from 10:00-11:00am at Scio Branch. Jos
 eph Maiorano\, Ohio State University Extension Instructor\, will lead part
 icipants in fitness events for anyone yet designed for persons with limite
 d mobility\, including senior citizens. The hour is comprised of a warmup\
 , then a few Zumba Gold Dances\, and last\, a time of no-impact stretching
 . Call 740-945-6811 for more information.&nbsp\;</p>
URL;VALUE=URI:https://events.getlocalhop.com/power-hour-fridays/event/utCF
 NIbvrt/
END:VEVENT
BEGIN:VEVENT
UID:event-instance-WJFXEzBynQ@events.getlocalhop.com
SEQUENCE:0
DTSTAMP:20260423T163331Z
DTSTART:20260619T140000Z
DTEND:20260619T150000Z
SUMMARY:Power Hour Fridays
LOCATION:Scio Branch Library\, 331 W. Main St. Scio\, OH 43988
DESCRIPTION:<p>Scio Branch Library is inviting you to a new event: Power H
 our Fridays\, which will take place from 10:00-11:00am at Scio Branch. Jos
 eph Maiorano\, Ohio State University Extension Instructor\, will lead part
 icipants in fitness events for anyone yet designed for persons with limite
 d mobility\, including senior citizens. The hour is comprised of a warmup\
 , then a few Zumba Gold Dances\, and last\, a time of no-impact stretching
 . Call 740-945-6811 for more information.&nbsp\;</p>
URL;VALUE=URI:https://events.getlocalhop.com/power-hour-fridays/event/utCF
 NIbvrt/
END:VEVENT
BEGIN:VEVENT
UID:event-instance-Rg4XujzscF@events.getlocalhop.com
SEQUENCE:0
DTSTAMP:20260423T163331Z
DTSTART:20260626T140000Z
DTEND:20260626T150000Z
SUMMARY:Power Hour Fridays
LOCATION:Scio Branch Library\, 331 W. Main St. Scio\, OH 43988
DESCRIPTION:<p>Scio Branch Library is inviting you to a new event: Power H
 our Fridays\, which will take place from 10:00-11:00am at Scio Branch. Jos
 eph Maiorano\, Ohio State University Extension Instructor\, will lead part
 icipants in fitness events for anyone yet designed for persons with limite
 d mobility\, including senior citizens. The hour is comprised of a warmup\
 , then a few Zumba Gold Dances\, and last\, a time of no-impact stretching
 . Call 740-945-6811 for more information.&nbsp\;</p>
URL;VALUE=URI:https://events.getlocalhop.com/power-hour-fridays/event/utCF
 NIbvrt/
END:VEVENT
BEGIN:VEVENT
UID:event-instance-MU2k9moFbS@events.getlocalhop.com
SEQUENCE:0
DTSTAMP:20260423T163331Z
DTSTART:20260703T140000Z
DTEND:20260703T150000Z
SUMMARY:Power Hour Fridays
LOCATION:Scio Branch Library\, 331 W. Main St. Scio\, OH 43988
DESCRIPTION:<p>Scio Branch Library is inviting you to a new event: Power H
 our Fridays\, which will take place from 10:00-11:00am at Scio Branch. Jos
 eph Maiorano\, Ohio State University Extension Instructor\, will lead part
 icipants in fitness events for anyone yet designed for persons with limite
 d mobility\, including senior citizens. The hour is comprised of a warmup\
 , then a few Zumba Gold Dances\, and last\, a time of no-impact stretching
 . Call 740-945-6811 for more information.&nbsp\;</p>
URL;VALUE=URI:https://events.getlocalhop.com/power-hour-fridays/event/utCF
 NIbvrt/
END:VEVENT
BEGIN:VEVENT
UID:event-instance-U46LfYICxY@events.getlocalhop.com
SEQUENCE:0
DTSTAMP:20260423T163331Z
DTSTART:20260710T140000Z
DTEND:20260710T150000Z
SUMMARY:Power Hour Fridays
LOCATION:Scio Branch Library\, 331 W. Main St. Scio\, OH 43988
DESCRIPTION:<p>Scio Branch Library is inviting you to a new event: Power H
 our Fridays\, which will take place from 10:00-11:00am at Scio Branch. Jos
 eph Maiorano\, Ohio State University Extension Instructor\, will lead part
 icipants in fitness events for anyone yet designed for persons with limite
 d mobility\, including senior citizens. The hour is comprised of a warmup\
 , then a few Zumba Gold Dances\, and last\, a time of no-impact stretching
 . Call 740-945-6811 for more information.&nbsp\;</p>
URL;VALUE=URI:https://events.getlocalhop.com/power-hour-fridays/event/utCF
 NIbvrt/
END:VEVENT
BEGIN:VEVENT
UID:event-instance-cTZQa2K8A6@events.getlocalhop.com
SEQUENCE:0
DTSTAMP:20260423T163331Z
DTSTART:20260717T140000Z
DTEND:20260717T150000Z
SUMMARY:Power Hour Fridays
LOCATION:Scio Branch Library\, 331 W. Main St. Scio\, OH 43988
DESCRIPTION:<p>Scio Branch Library is inviting you to a new event: Power H
 our Fridays\, which will take place from 10:00-11:00am at Scio Branch. Jos
 eph Maiorano\, Ohio State University Extension Instructor\, will lead part
 icipants in fitness events for anyone yet designed for persons with limite
 d mobility\, including senior citizens. The hour is comprised of a warmup\
 , then a few Zumba Gold Dances\, and last\, a time of no-impact stretching
 . Call 740-945-6811 for more information.&nbsp\;</p>
URL;VALUE=URI:https://events.getlocalhop.com/power-hour-fridays/event/utCF
 NIbvrt/
END:VEVENT
BEGIN:VEVENT
UID:event-instance-KbKX3IaALo@events.getlocalhop.com
SEQUENCE:0
DTSTAMP:20260423T163331Z
DTSTART:20260724T140000Z
DTEND:20260724T150000Z
SUMMARY:Power Hour Fridays
LOCATION:Scio Branch Library\, 331 W. Main St. Scio\, OH 43988
DESCRIPTION:<p>Scio Branch Library is inviting you to a new event: Power H
 our Fridays\, which will take place from 10:00-11:00am at Scio Branch. Jos
 eph Maiorano\, Ohio State University Extension Instructor\, will lead part
 icipants in fitness events for anyone yet designed for persons with limite
 d mobility\, including senior citizens. The hour is comprised of a warmup\
 , then a few Zumba Gold Dances\, and last\, a time of no-impact stretching
 . Call 740-945-6811 for more information.&nbsp\;</p>
URL;VALUE=URI:https://events.getlocalhop.com/power-hour-fridays/event/utCF
 NIbvrt/
END:VEVENT
BEGIN:VEVENT
UID:event-instance-9JHGxXeip2@events.getlocalhop.com
SEQUENCE:0
DTSTAMP:20260423T163331Z
DTSTART:20260731T140000Z
DTEND:20260731T150000Z
SUMMARY:Power Hour Fridays
LOCATION:Scio Branch Library\, 331 W. Main St. Scio\, OH 43988
DESCRIPTION:<p>Scio Branch Library is inviting you to a new event: Power H
 our Fridays\, which will take place from 10:00-11:00am at Scio Branch. Jos
 eph Maiorano\, Ohio State University Extension Instructor\, will lead part
 icipants in fitness events for anyone yet designed for persons with limite
 d mobility\, including senior citizens. The hour is comprised of a warmup\
 , then a few Zumba Gold Dances\, and last\, a time of no-impact stretching
 . Call 740-945-6811 for more information.&nbsp\;</p>
URL;VALUE=URI:https://events.getlocalhop.com/power-hour-fridays/event/utCF
 NIbvrt/
END:VEVENT
END:VCALENDAR