BEGIN:VCALENDAR
VERSION:2.0
PRODID:-//events.getlocalhop.com//localhop-calendar//EN
URL:https://api.getlocalhop.com/calendar?instance=PXfBQjJdGs&series=false
BEGIN:VEVENT
UID:event-instance-PXfBQjJdGs@events.getlocalhop.com
SEQUENCE:0
DTSTAMP:20260421T124841Z
DTSTART:20260225T203000Z
DTEND:20260225T213000Z
SUMMARY:Diamond Dot Feather Bookmarks
LOCATION:Henika District Library\, 149 S MAIN ST Wayland\, MI 49348
DESCRIPTION:<p>Teens and tweens can get creative and design their own spar
 kly feather bookmark using diamond dots! Perfect for adding some shine to 
 your next read. Registration is required and spots are limited. Sign up he
 re\, or contact Miss Tori to register!</p>
URL;VALUE=URI:https://events.getlocalhop.com/diamond-dot-feather-bookmarks
 /event/dw8Mv7pplt/
END:VEVENT
END:VCALENDAR