BEGIN:VCALENDAR
VERSION:2.0
PRODID:-//events.getlocalhop.com//localhop-calendar//EN
URL:https://api.getlocalhop.com/calendar?instance=PSsgqsJb3h&series=false
BEGIN:VEVENT
UID:event-instance-PSsgqsJb3h@events.getlocalhop.com
SEQUENCE:0
DTSTAMP:20260421T111526Z
DTSTART:20181215T190000Z
DTEND:20181215T194500Z
SUMMARY:Author Visit with Saadia Faruqi\, Creator of Meet Yasmin!
LOCATION:Troy Public Library\, 510 W. Big Beaver Rd Troy\, MI 48084\, Stor
 y Room
DESCRIPTION:Saadia Faruqi\, author of Meet Yasmin\, will share a storytime
  read-aloud and answer questions about her books. Meet Yasmin! features a 
 curious and creative Pakistani-American girl who solve problems and experi
 ences adventures. This program is designed for ages 5 years and up.
URL;VALUE=URI:https://events.getlocalhop.com/author-visit-with-saadia-faru
 qi-creator-of-meet-yasmin/event/GIFHcYaAp2/
END:VEVENT
END:VCALENDAR