BEGIN:VCALENDAR
VERSION:2.0
PRODID:-//events.getlocalhop.com//localhop-calendar//EN
URL:https://api.getlocalhop.com/calendar?instance=PIUl6C9Zbz&series=false
BEGIN:VEVENT
UID:event-instance-PIUl6C9Zbz@events.getlocalhop.com
SEQUENCE:0
DTSTAMP:20260420T195102Z
DTSTART;VALUE=DATE:20260228
DTEND;VALUE=DATE:20260301
X-MICROSOFT-CDO-ALLDAYEVENT:TRUE
X-MICROSOFT-MSNCALENDAR-ALLDAYEVENT:TRUE
SUMMARY:STICK with Reading! Kids Winter Reading Registration
LOCATION:Youth Services - PWPL\, 217 N. Front St. Marquette\, MI 49855\, Y
 outh Services Desk
DESCRIPTION:<p>Click Register above. Select the number of children you are
  going to register and then complete the registration form as prompted.&nb
 sp\;</p>\n<p>&nbsp\;</p>\n<p>Note- Kids in 6th &amp\; 7th grade have the o
 ption of participating in either Kids Read! or Teens Read! If your child i
 s in 6th or 7th grade and wishes to do the teen program\, you will need to
  register them on the Teens Winter Reading Registration instead.<br />&nbs
 p\;</p>\n<p>Information about STICK with Reading! Winter Reading Program 2
 026</p>\n<ul>\n<li>This winter kids are reading for truly amazing stickers
 !&nbsp\;\n<ul>\n<li>The more reading sheets they turn in\, the more awesom
 e the stickers get!</li>\n</ul>\n</li>\n<li>The program is for youth birth
 -14.</li>\n<li>After registering online\, come to the library during our o
 pen hours so your child(ren) can pick out their first sticker and sticker 
 collecting container and get their first reading log.</li>\n<li>Children h
 ave until February 28 to read (or listen) and turn in as many reading logs
  as they can. For each log turned in\, receive your next reading log and c
 hoose another epic sticker to add to their collections.</li>\n</ul>\n<p>&n
 bsp\;</p>\n<p><strong>*Stickers may not be appropriate for young children.
  Register them for our <a href=\"https://pwpl.info/youth-teen/youth-progra
 ms/1000-books-before-kindergarten/\" target=\"_blank\" rel=\"noopener\">10
 00 Books Before Kindergarten program</a> instead*</strong></p>\n<p>&nbsp\;
 </p>\n<p>Free of charge</p>\n<p>&nbsp\;</p>\n<p>Questions about this event
  can be directed to the Youth Services Department:</p>\n<p>906-226-4323 | 
 <a href=\"mailto:ysdesk@pwpl.info\">ysdesk@pwpl.info</a></p>\n<p>---------
 ---------------</p>\n<p>Funded by The Friends of the Peter White Public Li
 brary</p>
URL;VALUE=URI:https://events.getlocalhop.com/stick-with-reading-kids-winte
 r-reading-registration/event/3BL6tiIi9M/
END:VEVENT
END:VCALENDAR