BEGIN:VCALENDAR
VERSION:2.0
PRODID:-//events.getlocalhop.com//localhop-calendar//EN
URL:https://api.getlocalhop.com/calendar?instance=PBatlJlZxJ&series=false
BEGIN:VEVENT
UID:event-instance-PBatlJlZxJ@events.getlocalhop.com
SEQUENCE:0
DTSTAMP:20260422T103526Z
DTSTART:20260313T160000Z
DTEND:20260313T173000Z
SUMMARY:Seed Swaps
LOCATION:Wyomissing Public Library\, 9 Reading Blvd Wyomissing\, PA 19610
DESCRIPTION:<p>Master Gardeners Karyn Spangler and Sandy Weiss will talk a
 bout how the Free Seed Exchange program at the Wyomissing Public Library w
 orks. Our library is joining other libraries around the county in offering
  patrons an opportunity to swap native seeds for plants\, vegetables and h
 erbs.</p>\n<p>&nbsp\;</p>
URL;VALUE=URI:https://events.getlocalhop.com/seed-swaps/event/xkpRLF0BJg/
END:VEVENT
END:VCALENDAR