BEGIN:VCALENDAR
VERSION:2.0
PRODID:-//events.getlocalhop.com//localhop-calendar//EN
URL:https://api.getlocalhop.com/calendar?instance=OlkebaLUG8&series=true
BEGIN:VEVENT
UID:event-instance-OlkebaLUG8@events.getlocalhop.com
SEQUENCE:0
DTSTAMP:20260419T123954Z
DTSTART:20260502T150000Z
DTEND:20260502T170000Z
SUMMARY:Friends of the Library Book Donation Drop-off
LOCATION:Johnson City Public Library\, 100 West Millard Street Johnson Cit
 y\, TN 37604
DESCRIPTION:<p>Friends of the Johnson City Public Library holds a donation
  drop-off the first Saturday of every month and the first three Saturdays 
 in April. Please bring items you want to donate to the Library's parking l
 ot near the curbside pickup spots between 11 a.m.-1 p.m. You'll see a Frie
 nd there who will help unload your donations.</p>\n<p>Acceptable donations
  include books (with the exception of textbooks\, reference materials\, Re
 ader's Digest\, and magazines)\, as well as DVDs and puzzles. Please <a hr
 ef=\"https://www.jcpl.org/support/friends/\" target=\"_blank\" rel=\"noope
 ner\">contact the Friends</a> with questions.</p>
URL;VALUE=URI:https://events.getlocalhop.com/friends-of-the-library-book-d
 onation-dropoff/event/TYVq1ZKqYu/
END:VEVENT
END:VCALENDAR