BEGIN:VCALENDAR
VERSION:2.0
PRODID:-//events.getlocalhop.com//localhop-calendar//EN
URL:https://api.getlocalhop.com/calendar?instance=OFmJRcjhEJ&series=false
BEGIN:VEVENT
UID:event-instance-OFmJRcjhEJ@events.getlocalhop.com
SEQUENCE:0
DTSTAMP:20260421T055743Z
DTSTART:20240924T213000Z
DTEND:20240924T223000Z
SUMMARY:Geode Geology for Kids 7 & Up (K)
LOCATION:Manistee County Library - Kaleva Branch\, 14618 Walta St. Kaleva\
 , MI 49645
DESCRIPTION:<p>*Registration is required for this event!*</p>\n<p>What's i
 nside a geode? How do they form? Most importantly\, how do you split them 
 open? We'll learn basic geode geology\, break open our very own\, then exp
 lore different types of rocks! *This program will require the use of hamme
 rs. Adult supervision is required.*</p>
URL;VALUE=URI:https://events.getlocalhop.com/geode-geology-for-kids-7-and-
 up-k/event/a8NnsWoqQt/
END:VEVENT
END:VCALENDAR