BEGIN:VCALENDAR
VERSION:2.0
PRODID:-//events.getlocalhop.com//localhop-calendar//EN
URL:https://api.getlocalhop.com/calendar?instance=ODxPVKrR8D&series=false
BEGIN:VEVENT
UID:event-instance-ODxPVKrR8D@events.getlocalhop.com
SEQUENCE:0
DTSTAMP:20260424T024818Z
DTSTART:20190709T170000Z
DTEND:20190709T210000Z
SUMMARY:Summer Camp - Painting and Drawing for Kids (Ages 7 & Up) - Class 
 #2
LOCATION:Orion Art Studio at Moose Tree\, 3191 W. Clarkston Rd. Lake Orion
 \, MI 48362
DESCRIPTION:Is ART your child's thing? Explore this fun nature camp where 
 Painting and Drawing will serve as our main focus of the week! We will be 
 learning about color theory\, mixing paints\, the importance of contrast a
 nd 'sweet spots' of our compositions. Our young artists will be venturing 
 outdoors to sketch in the wilderness and then bring these ideas inside in 
 order to paint up a masterpiece! We will also inspect the interesting pain
 ting styles of Henri Rousseau\, Paul Cezanne and contemporary painter\, Ya
 yoi Kusama to emulating their styles for a unique expression of art. Acryl
 ics\, Watercolors and Graphite will be the mediums of this creative aftern
 oon experience. A Gallery Show of our students work will follow class on t
 he final day. Taught by Artist/Instructor Pamela Palmer owner of The Artis
 t's Apprentice. Ages 7 & up (As always\, siblings of any age may register)
 . Please wear closed toe shoes and bring a snack if you wish.\n*Note: An a
 dditional $50 material fee will be collected by the instructor on the firs
 t day of class
URL;VALUE=URI:https://events.getlocalhop.com/summer-camp-painting-and-draw
 ing-for-kids-ages-7-and-up-class-2/event/kyvb5rviKF/
END:VEVENT
END:VCALENDAR