BEGIN:VCALENDAR
VERSION:2.0
PRODID:-//events.getlocalhop.com//localhop-calendar//EN
URL:https://api.getlocalhop.com/calendar?instance=NZv6VONIAh&series=false
BEGIN:VEVENT
UID:event-instance-NZv6VONIAh@events.getlocalhop.com
SEQUENCE:0
DTSTAMP:20260419T122223Z
DTSTART:20260502T160000Z
DTEND:20260502T170000Z
SUMMARY:The SPARK @ MPL: Art Roulette
LOCATION:Milton Public Library\, 430 E. High St. Milton\, WI 53563
DESCRIPTION:<p>Come for a fun\, silly\, and collaborative morning of art i
 n The SPARK! Everyone will start creating their own original painting\, bu
 t then have to pass it on to the next person. Paintings will rotate every 
 8 minutes! What will your piece look like when it gets back to you?!</p>\n
 <p><strong>Snacks provided. Registration required. For those in grades 7-1
 2.</strong></p>
URL;VALUE=URI:https://events.getlocalhop.com/the-spark-mpl-art-roulette/ev
 ent/rNXXnFUgdX/
END:VEVENT
END:VCALENDAR