BEGIN:VCALENDAR
VERSION:2.0
PRODID:-//events.getlocalhop.com//localhop-calendar//EN
URL:https://api.getlocalhop.com/calendar?instance=MoYDYlpSQg&series=false
BEGIN:VEVENT
UID:event-instance-MoYDYlpSQg@events.getlocalhop.com
SEQUENCE:0
DTSTAMP:20260423T010613Z
DTSTART:20241029T140000Z
DTEND:20241029T160000Z
SUMMARY:A Good Yarn Knitting and Crochet Group
LOCATION:Clarkston Independence District Library\, 6495 Clarkston Rd Clark
 ston\, MI 48346\, Conference Room
DESCRIPTION:<p>Join fellow yarn enthusiasts to socialize while knitting or
  crocheting! All experience levels are welcome. Bring your own project\, o
 r choose from one of the patterns provided. We have a list of organization
 s that will accept handmade items as donations if you are interested in cr
 afting for a cause!</p>\n<p>We will not be meeting the day after Christmas
 \, December 26th.</p>\n<p>For questions about this program\, email David a
 t silbermand@cidlibrary.org</p>
URL;VALUE=URI:https://events.getlocalhop.com/a-good-yarn-knitting-and-croc
 het-group/event/GMBXIDKJj4/
END:VEVENT
END:VCALENDAR