BEGIN:VCALENDAR
VERSION:2.0
PRODID:-//events.getlocalhop.com//localhop-calendar//EN
URL:https://api.getlocalhop.com/calendar?instance=MdL5iYVIh4&series=false
BEGIN:VEVENT
UID:event-instance-MdL5iYVIh4@events.getlocalhop.com
SEQUENCE:0
DTSTAMP:20260421T151719Z
DTSTART:20240429T200000Z
DTEND:20240429T220000Z
SUMMARY:Pokemon Academy! (M)
LOCATION:Manistee County Library\, 95 Maple Street Manistee\, MI 49660\, M
 eeting Room
DESCRIPTION:<p>Learn to play the Pokemon Trading Card Game\, trade with fr
 iends and more!</p>\n<p>No purchase necessary\, practice decks available f
 or those who would just like to play.</p>\n<p>This event is kindly facilit
 ated by the fine folks at Backstage Hobbies &amp\; Games in Downtown Manis
 tee!</p>\n<p>Space is limited to those registered! Please register today t
 o join\, visit manisteelibrary.org.</p>
URL;VALUE=URI:https://events.getlocalhop.com/pokemon-academy-m/event/28EZu
 KH2a5/
END:VEVENT
END:VCALENDAR