BEGIN:VCALENDAR
VERSION:2.0
PRODID:-//events.getlocalhop.com//localhop-calendar//EN
URL:https://api.getlocalhop.com/calendar?instance=MUAQzz5uDZ&series=false
BEGIN:VEVENT
UID:event-instance-MUAQzz5uDZ@events.getlocalhop.com
SEQUENCE:0
DTSTAMP:20260423T165721Z
DTSTART:20250910T223000Z
DTEND:20250911T003000Z
SUMMARY:Tween Wednesday: Snow White and Caramel Apple Bar
LOCATION:Washington District Library\, 380 N. Wilmor Rd. Washington\, IL 6
 1571\, Meeting Room
DESCRIPTION:<p>Join Miss Morgan on the 2nd Wednesday of the month for a va
 riety of events &amp\; activities. Watch the live-action Snow White (PG) a
 nd create your own sweet treat! Start with a crisp apple and drizzle it in
  warm\, gooey caramel. Then top it off with your choice of delicious toppi
 ngs&mdash\;crushed cookies\, chopped nuts\, mini marshmallows\, chocolate 
 chips\, sprinkles\, and more.&nbsp\;</p>\n<p>Ages: 9-14\; Drop Off Event</
 p>
URL;VALUE=URI:https://events.getlocalhop.com/tween-wednesday-snow-white-an
 d-caramel-apple-bar/event/Kvy88U6tgC/
END:VEVENT
END:VCALENDAR