BEGIN:VCALENDAR
VERSION:2.0
PRODID:-//events.getlocalhop.com//localhop-calendar//EN
URL:https://api.getlocalhop.com/calendar?instance=MOlKtmUVpG&series=false
BEGIN:VEVENT
UID:event-instance-MOlKtmUVpG@events.getlocalhop.com
SEQUENCE:0
DTSTAMP:20260424T134552Z
DTSTART:20260428T190000Z
DTEND:20260428T210000Z
SUMMARY:Teen Dungeons & Dragons
LOCATION:Louisville Public Library\, 1600 S Nickelplate St.\, Louisville\,
  OH 44641 Louisville\, OH 44641
DESCRIPTION:<p>Whether you're a seasoned adventurer or a noob\,&nbsp\; we'
 d be happy to share our camp with you.&nbsp\; And eventually even our loot
 !</p>\n<p>&nbsp\;</p>\n<p>If you're new to D&amp\;D\, try <a href=\"https:
 //www.dndbeyond.com/how-to-play-dnd\" target=\"_blank\" rel=\"noopener\">D
 &amp\;D Beyond</a> for some basic info.&nbsp\; Or just stumble in\, and th
 e DM will teach you on the fly. It may sting a bit\, but you'll survive!&n
 bsp\; Probably!</p>\n<p>&nbsp\;</p>\n<p><strong>The dice ARE trying to kil
 l you!&nbsp\; Every first and third Tuesday of the month\, at any rate.</s
 trong></p>\n<p>&nbsp\;</p>\n<p>Snacks provided\, because duh\, of course t
 hey are.</p>\n<p>&nbsp\;</p>\n<p><strong>Teens aged 13-19 only\, please.</
 strong></p>
URL;VALUE=URI:https://events.getlocalhop.com/teen-dungeons-and-dragons/eve
 nt/T5Uz5aw3Er/
END:VEVENT
END:VCALENDAR